BEGIN:VCALENDAR
VERSION:2.0
PRODID:-//Integrated Eros - ECPv6.15.20//NONSGML v1.0//EN
CALSCALE:GREGORIAN
METHOD:PUBLISH
X-ORIGINAL-URL:https://integratederos.com
X-WR-CALDESC:Events for Integrated Eros
REFRESH-INTERVAL;VALUE=DURATION:PT1H
X-Robots-Tag:noindex
X-PUBLISHED-TTL:PT1H
BEGIN:VTIMEZONE
TZID:UTC
BEGIN:STANDARD
TZOFFSETFROM:+0000
TZOFFSETTO:+0000
TZNAME:UTC
DTSTART:20180101T000000
END:STANDARD
END:VTIMEZONE
BEGIN:VEVENT
DTSTART;TZID=UTC:20190518T110000
DTEND;TZID=UTC:20190518T160000
DTSTAMP:20260419T122042
CREATED:20190430T023637Z
LAST-MODIFIED:20190430T023637Z
UID:760-1558177200-1558195200@integratederos.com
SUMMARY:Introduction to the Wheel of Consent
DESCRIPTION:What makes touch safe? How do we get the touch that we want? When you engage with another -whether a friend\, lover\, or colleague – are you doing what they *want* you to do\, or what they *allow* you to do? What is the difference and why does it matter? \nJoin Sasha Lasdon and Mihal Davis for a guided\, experiential workshop\, based on the Wheel of Consent (created by Dr. Betty Martin). It’s a powerful tool to improve the quality of your touch and create clear agreements so you can experience satisfying connections to yourself and with others. \nThis workshop is about:\n-waking up sensuality – feeling and following pleasure\n-making choices – learning how to choose for yourself\n-understanding the dynamics of receiving and giving and taking them apart\n-understanding who is doing the action and who it is for\, and knowing the difference\n-gaining skills of empowerment and communication \nDuring this workshop\, there will be many opportunities for exchanging touch as part of learning\, but there is no genital touch and clothing stays on in the workshop. \nTo register\, please contact Sasha Lasdon at integratederos@gmail.com. $25-$50 sliding scale. \nSasha Lasdon is a Somatic Sex Educator based in Madison\, WI. They have trained with Betty Martin over the past 4 years. They teach erotic embodiment for individuals\, couples and groups. They also teach movement and improvisation internationally.  \nMihal Davis is a Naturopathic Doctor and Acupuncturist with an interest in energy medicine\, Tantra and Betty Martin’s Wheel of Consent. Mihal trained with Betty in 2018 and has been studying erotic embodiment for  8 years
URL:https://integratederos.com/event/test-event/
LOCATION:Grandmother Moon Clinic\, 608 Water Street\, Prairie du Sac\, 53578\, United States
ATTACH;FMTTYPE=:
END:VEVENT
END:VCALENDAR