BEGIN:VCALENDAR
VERSION:2.0
PRODID:-//Integrated Eros - ECPv6.15.20//NONSGML v1.0//EN
CALSCALE:GREGORIAN
METHOD:PUBLISH
X-WR-CALNAME:Integrated Eros
X-ORIGINAL-URL:https://integratederos.com
X-WR-CALDESC:Events for Integrated Eros
REFRESH-INTERVAL;VALUE=DURATION:PT1H
X-Robots-Tag:noindex
X-PUBLISHED-TTL:PT1H
BEGIN:VTIMEZONE
TZID:America/Chicago
BEGIN:DAYLIGHT
TZOFFSETFROM:-0600
TZOFFSETTO:-0500
TZNAME:CDT
DTSTART:20210314T080000
END:DAYLIGHT
BEGIN:STANDARD
TZOFFSETFROM:-0500
TZOFFSETTO:-0600
TZNAME:CST
DTSTART:20211107T070000
END:STANDARD
BEGIN:DAYLIGHT
TZOFFSETFROM:-0600
TZOFFSETTO:-0500
TZNAME:CDT
DTSTART:20220313T080000
END:DAYLIGHT
BEGIN:STANDARD
TZOFFSETFROM:-0500
TZOFFSETTO:-0600
TZNAME:CST
DTSTART:20221106T070000
END:STANDARD
BEGIN:DAYLIGHT
TZOFFSETFROM:-0600
TZOFFSETTO:-0500
TZNAME:CDT
DTSTART:20230312T080000
END:DAYLIGHT
BEGIN:STANDARD
TZOFFSETFROM:-0500
TZOFFSETTO:-0600
TZNAME:CST
DTSTART:20231105T070000
END:STANDARD
END:VTIMEZONE
BEGIN:VEVENT
DTSTART;TZID=America/Chicago:20220607T190000
DTEND;TZID=America/Chicago:20220607T200000
DTSTAMP:20260421T205956
CREATED:20220513T183711Z
LAST-MODIFIED:20220513T183711Z
UID:242572-1654628400-1654632000@integratederos.com
SUMMARY:Free Wheel of Consent practice laboratory: Notice\, Trust\, Value\, Communicate
DESCRIPTION:Join Sasha Lasdon and Max Pearl for a free\, one hour practice laboratory on June 7! We will spend the time practicing a particular skill from the Wheel of Consent. This time\, we will be working with the very first step in what it’s like to notice\, trust\, value and communicate what we want. \nIn order to learn how to ask for what we want we need to notice our desires\, trust that what we want is true\, learn to value what we want\, and then communicate that desire to others. Step into a practice to help with that first step – noticing our desires. \nTo register\, fill out this simple google form: https://bit.ly/WheelTasterJune7 \nWhile there is no cost\, we want to know that you’ll be there! We will send you the zoom link a couple days before we meet. \n 
URL:https://integratederos.com/event/free-wheel-of-consent-practice-laboratory-notice-trust-value-communicate/
LOCATION:Online
END:VEVENT
BEGIN:VEVENT
DTSTART;TZID=America/Chicago:20220618T123000
DTEND;TZID=America/Chicago:20220618T143000
DTSTAMP:20260421T205956
CREATED:20220614T202325Z
LAST-MODIFIED:20220614T202325Z
UID:242977-1655555400-1655562600@integratederos.com
SUMMARY:Couple's Massage class (online) with Sasha and A Woman's Touch
DESCRIPTION:Enjoy some quality time with your partner and reconnect using the power of touch. You’ll learn basic massage techniques and communication skills so that together you can share in the nurturing\, relaxing and therapeutic benefits of massage. We’ll explore non-sexual touch only. A wonderful idea for a gift or date night! We will offer a safe\, friendly learning space for all bodies and levels of experience.\nAll couples over 18 welcome. Please contact A Woman’s Touch with any questions: 608-250-1928 \nPlease register with a practice partner (price is for 2 people). To register\, click here \nThe class happens via Zoom. We invite you to be in a space with visual and sound privacy. Wear comfortable clothing and have yoga mats\, pillows\, bolsters and anything else you need to make yourselves comfortable with you. A link with complete info will be shared with you the day before the class. \n  \n  \n  \n  \nhttps://sexualityresources.com/product/couples-massage/
URL:https://integratederos.com/event/couples-massage-class-online-with-sasha-and-a-womans-touch/
LOCATION:Online
END:VEVENT
BEGIN:VEVENT
DTSTART;TZID=America/Chicago:20220618T144500
DTEND;TZID=America/Chicago:20220618T154500
DTSTAMP:20260421T205956
CREATED:20220614T202852Z
LAST-MODIFIED:20220614T202852Z
UID:242983-1655563500-1655567100@integratederos.com
SUMMARY:Erotic Massage class (online) with A Woman's Touch
DESCRIPTION:Want to take it up a notch? In this add-on to the Couples Massage class\, Sasha will cover erotic massage for vulvas and penises and breast/chest massage. We’ll talk about communication\, techniques and strategies to bring you and your partner greater pleasure and sensation. All demos will be on models. No sexual contact or nudity will occur. The workshop is 1 hour long. \nRegister here: https://sexualityresources.com/product/erotic-massage/ \n***Please note that this class is for partners who have completed the Couples Massage workshop. For Couples Massage session options\, click here!*** \n 
URL:https://integratederos.com/event/erotic-massage-class-online-with-a-womans-touch/
LOCATION:Online
END:VEVENT
END:VCALENDAR