BEGIN:VCALENDAR
VERSION:2.0
PRODID:-//Integrated Eros - ECPv6.15.20//NONSGML v1.0//EN
CALSCALE:GREGORIAN
METHOD:PUBLISH
X-WR-CALNAME:Integrated Eros
X-ORIGINAL-URL:https://integratederos.com
X-WR-CALDESC:Events for Integrated Eros
REFRESH-INTERVAL;VALUE=DURATION:PT1H
X-Robots-Tag:noindex
X-PUBLISHED-TTL:PT1H
BEGIN:VTIMEZONE
TZID:America/Chicago
BEGIN:DAYLIGHT
TZOFFSETFROM:-0600
TZOFFSETTO:-0500
TZNAME:CDT
DTSTART:20190310T080000
END:DAYLIGHT
BEGIN:STANDARD
TZOFFSETFROM:-0500
TZOFFSETTO:-0600
TZNAME:CST
DTSTART:20191103T070000
END:STANDARD
BEGIN:DAYLIGHT
TZOFFSETFROM:-0600
TZOFFSETTO:-0500
TZNAME:CDT
DTSTART:20200308T080000
END:DAYLIGHT
BEGIN:STANDARD
TZOFFSETFROM:-0500
TZOFFSETTO:-0600
TZNAME:CST
DTSTART:20201101T070000
END:STANDARD
BEGIN:DAYLIGHT
TZOFFSETFROM:-0600
TZOFFSETTO:-0500
TZNAME:CDT
DTSTART:20210314T080000
END:DAYLIGHT
BEGIN:STANDARD
TZOFFSETFROM:-0500
TZOFFSETTO:-0600
TZNAME:CST
DTSTART:20211107T070000
END:STANDARD
END:VTIMEZONE
BEGIN:VEVENT
DTSTART;TZID=America/Chicago:20200416T080000
DTEND;TZID=America/Chicago:20200419T170000
DTSTAMP:20260425T094939
CREATED:20200210T230428Z
LAST-MODIFIED:20200210T230428Z
UID:69143-1587024000-1587315600@integratederos.com
SUMMARY:Consent Culture in Contact Improvisation Symposium
DESCRIPTION:Registration and further info at:\n\nhttps://www.earthdance.net/consentsymposium \nPlease note that this symposium will be moving to an online format to accommodate for precautions for COVID-19. That means it will be accessible to even more of you!  \na forum for CI teachers and committed practitioners to cross pollinate ideas and strategies toward safer CI spaces.  \nThe weekend will include presentations\, discussions\, and CI experiences that focus on consent practices\, inclusion\, and intersectionality. The schedule will offer ample time to foster new collaborations\, conduct your own research\, and document your findings.  \nSasha Lasdon is one of eight presenters. They are presenting on CI and Consent with a Midwestern Queer perspective: the power of ensembling in breaking heteronormative touch norms of the form.
URL:https://integratederos.com/event/consent-culture-in-contact-improvisation-symposium/
LOCATION:Ontario
END:VEVENT
END:VCALENDAR