BEGIN:VCALENDAR
VERSION:2.0
PRODID:-//Integrated Eros - ECPv6.15.20//NONSGML v1.0//EN
CALSCALE:GREGORIAN
METHOD:PUBLISH
X-WR-CALNAME:Integrated Eros
X-ORIGINAL-URL:https://integratederos.com
X-WR-CALDESC:Events for Integrated Eros
REFRESH-INTERVAL;VALUE=DURATION:PT1H
X-Robots-Tag:noindex
X-PUBLISHED-TTL:PT1H
BEGIN:VTIMEZONE
TZID:UTC
BEGIN:STANDARD
TZOFFSETFROM:+0000
TZOFFSETTO:+0000
TZNAME:UTC
DTSTART:20180101T000000
END:STANDARD
END:VTIMEZONE
BEGIN:VEVENT
DTSTART;TZID=UTC:20190511T010000
DTEND;TZID=UTC:20190511T150000
DTSTAMP:20260419T133256
CREATED:20190430T040047Z
LAST-MODIFIED:20190430T040047Z
UID:844-1557536400-1557586800@integratederos.com
SUMMARY:Couples Massage at A Woman's Touch
DESCRIPTION:Enjoy some quality time with your partner and reconnect using the power of touch. You’ll learn basic massage techniques and communication skills so that together you can share in the nurturing\, relaxing and therapeutic benefits of massage. We’ll explore non-sexual touch only. A wonderful idea for a gift or date night! We will offer a safe\, friendly learning space for all bodies and levels of experience.\nAll couples over 18 welcome. Please contact A Woman’s Touch with any questions: 608-250-1928 \nPlease register with a practice partner (price is for 2 people). To register\, click here. \nWear comfortable clothing and bring a yoga mat or several towels to provide a padded surface to lie on.  We also encourage you to bring your favorite massage oil or product\, though this is optional.
URL:https://integratederos.com/event/couples-massage-at-a-womans-touch/
LOCATION:A Woman’s Touch\, 302 S Livingston St\, Madison\, WI\, 53703
END:VEVENT
BEGIN:VEVENT
DTSTART;TZID=UTC:20190504T110000
DTEND;TZID=UTC:20190504T120000
DTSTAMP:20260419T133256
CREATED:20190430T034419Z
LAST-MODIFIED:20190430T034419Z
UID:241344-1556967600-1556971200@integratederos.com
SUMMARY:Embodied Consent Facebook LiveStream\, with Shawn Coleman
DESCRIPTION:Join Sasha Lasdon\, Somatic Sex Educator\, and Shawn Coleman\, Cuddlist with TouchPoints Cuddles and Community\, for a conversation on embodied consent. Whether you are curious about consent\, want to learn more about boundaries or simply want to hear new perspectives from a couple of Consent geeks\, join us!  \nChime in to ask questions. No ticket necessary\, simply join us on Facebook! https://www.facebook.com/events/2124905131140918/?ti=ia
URL:https://integratederos.com/event/embodied-consent-facebook-livestream-with-shawn-coleman/
LOCATION:WI
ATTACH;FMTTYPE=:
END:VEVENT
END:VCALENDAR